BEGIN:VCALENDAR
VERSION:2.0
PRODID:-//Základní umělecká škola Roberta Schumanna Aš - ECPv4.6.14.1//NONSGML v1.0//EN
CALSCALE:GREGORIAN
METHOD:PUBLISH
X-WR-CALNAME:Základní umělecká škola Roberta Schumanna Aš
X-ORIGINAL-URL:https://zusas.cz
X-WR-CALDESC:Events for Základní umělecká škola Roberta Schumanna Aš
BEGIN:VEVENT
DTSTART;TZID=UTC+1:20260609T140000
DTEND;TZID=UTC+1:20260609T170000
DTSTAMP:20260420T025349
CREATED:20250917T113051Z
LAST-MODIFIED:20250917T113051Z
UID:8908-1781013600-1781024400@zusas.cz
SUMMARY:Zápis
DESCRIPTION:
URL:https://zusas.cz/event/zapis/
LOCATION:Kostelní 42\, Aš\, Karlovarský\, 35201\, Česká republika
ORGANIZER;CN="ZU%C5%A0%20Roberta%20Schumanna%20A%C5%A1":MAILTO:zusas@centrum.cz
END:VEVENT
END:VCALENDAR