BEGIN:VCALENDAR
VERSION:2.0
PRODID:-//Základní umělecká škola Roberta Schumanna Aš - ECPv4.6.14.1//NONSGML v1.0//EN
CALSCALE:GREGORIAN
METHOD:PUBLISH
X-WR-CALNAME:Základní umělecká škola Roberta Schumanna Aš
X-ORIGINAL-URL:https://zusas.cz
X-WR-CALDESC:Events for Základní umělecká škola Roberta Schumanna Aš
BEGIN:VEVENT
DTSTART;TZID=UTC+1:20260611T140000
DTEND;TZID=UTC+1:20260611T170000
DTSTAMP:20260420T013748
CREATED:20250917T113145Z
LAST-MODIFIED:20250917T113145Z
UID:8910-1781186400-1781197200@zusas.cz
SUMMARY:Zápis
DESCRIPTION:
URL:https://zusas.cz/event/zapis-2/
LOCATION:Kostelní 42\, Aš\, Karlovarský\, 35201\, Česká republika
ORGANIZER;CN="ZU%C5%A0%20Roberta%20Schumanna%20A%C5%A1":MAILTO:zusas@centrum.cz
END:VEVENT
END:VCALENDAR